BEGIN:VCALENDAR
VERSION:2.0
PRODID:-//hacksw/handcal//NONSGML v1.0//EN
BEGIN:VEVENT
DTSTAMP:20261020T230000Z
DTSTART:20261020T230000Z
DTEND:19700101T000000Z

SUMMARY:2026 Annual NJ School Boards Workshop 
DESCRIPTION:Now, every October, a senior-level audience of school leaders, education professionals, and influencers in New Jersey education gather for quality professional development; important legal, legislative, policy and funding updates; new products and services; and to celebrate public education.
END:VEVENT
END:VCALENDAR