BEGIN:VCALENDAR
VERSION:2.0
PRODID:-//hacksw/handcal//NONSGML v1.0//EN
BEGIN:VEVENT
DTSTAMP:20260606T230000Z
DTSTART:20260606T230000Z
DTEND:19700101T000000Z

SUMMARY:2026 American Aerobics Association International - ISMA
DESCRIPTION:AAAI/ISMA is the International Gold Standard in Fitness Certification & Education, certifying & Educating Fitness Instructors for over 40 Years.
END:VEVENT
END:VCALENDAR