BEGIN:VCALENDAR
VERSION:2.0
PRODID:-//hacksw/handcal//NONSGML v1.0//EN
BEGIN:VEVENT
DTSTAMP:20260607T230000Z
DTSTART:20260607T230000Z
DTEND:19700101T000000Z

SUMMARY:2026  Atlantic City Scuba Show
DESCRIPTION:
END:VEVENT
END:VCALENDAR