BEGIN:VCALENDAR
VERSION:2.0
PRODID:-//hacksw/handcal//NONSGML v1.0//EN
BEGIN:VEVENT
DTSTAMP:20260519T230000Z
DTSTART:20260519T230000Z
DTEND:19700101T000000Z

SUMMARY:2026 NJAA Conference and Expo
DESCRIPTION:Get ready—New Jersey’s premier multifamily industry event is returning to Atlantic City! The 2026 NJAA Conference & Expo is set to bring together over 1,700 NJAA members for three action-packed days of education, networking, and inspiration.
END:VEVENT
END:VCALENDAR