BEGIN:VCALENDAR
VERSION:2.0
PRODID:-//hacksw/handcal//NONSGML v1.0//EN
BEGIN:VEVENT
DTSTAMP:20260929T230000Z
DTSTART:20260929T230000Z
DTEND:19700101T000000Z

SUMMARY:Garden State SHRM Annual Conference 2026
DESCRIPTION:
END:VEVENT
END:VCALENDAR