BEGIN:VCALENDAR
VERSION:2.0
PRODID:-//hacksw/handcal//NONSGML v1.0//EN
BEGIN:VEVENT
DTSTAMP:20260623T230000Z
DTSTART:20260623T230000Z
DTEND:19700101T000000Z

SUMMARY:2026 Police Security Expo 
DESCRIPTION:The Conference combines prominent speakers and training professionals, high-profile incident reviews, and valuable leadership insights for the police executive with social functions. For two days view and tryout the latest in tools, technology, hardware and software for the police and security professional. 
END:VEVENT
END:VCALENDAR